BEGIN:VCALENDAR
VERSION:2.0
PRODID:-//AudioTheme 3.0.2
BEGIN:VEVENT
UID:http://barboratellinger.com/?post_type=audiotheme_gig&#038;p=915
URL:https://barboratellinger.com/cs/shows/2016-09-30-2/
DTSTART;TZID=GMT:20160930T000000
SUMMARY:Tellinger & Fresk with JOSHUA NA DIE REEN
DESCRIPTION:After a friendship of several years\, mutual admiration has brought a collaboration between South Africa's favourite jazz duo and its favourite Afrikaans music sensation.    Tellinger & Fresk recently returned from a fantastic European tour and Joshua Na Die Reen recently cleaned up at the Ghoema Awards.    This unlikely team up is embarking on a tour of the country over the next year and they will be starting right here at their favourite Pretoria venue\, Laughing Chefs.    This will certainly be an entertaining and unique presentation from three truly great musicians.
LOCATION:Laughing Chefs
END:VEVENT
END:VCALENDAR